BEGIN:VCALENDAR
VERSION:2.0
PRODID:-//Contratero//ES
CALSCALE:GREGORIAN
METHOD:PUBLISH
BEGIN:VEVENT
UID:PN-S 2022/000007@contratero.es
DTSTAMP:20260424T044512Z
DTSTART:20220124T235959
DTEND:20220125T005959
SUMMARY:Cierre: Servicio de mantenimiento de una lectora de marcas
DESCRIPTION:Servicio de mantenimiento de una lectora de marcas para la Universidad de Oviedo.\\n\\nOrganismo: Rectorado de la Universidad de Oviedo\\n\\nVer en Contratero: https://contratero.es/contracts/PN-S 2022/000007
URL:https://contratero.es/contracts/PN-S 2022/000007
STATUS:CONFIRMED
BEGIN:VALARM
TRIGGER:-P1D
ACTION:DISPLAY
DESCRIPTION:Recordatorio: Servicio de mantenimiento de u
END:VALARM
END:VEVENT
END:VCALENDAR